BEGIN:VCALENDAR
PRODID:-//eluceo/ical//2.0/EN
VERSION:2.0
CALSCALE:GREGORIAN
BEGIN:VEVENT
UID:611ce0aaa659adbd21cbe78199cc7af6
DTSTAMP:20260422T100552Z
SUMMARY:Zwischenzeugnis
DESCRIPTION:
URL:https://rslandshut.de/eventleser/zwischenzeugnis.html
DTSTART:20250214T000000
DTEND:20250214T235959
LOCATION:
END:VEVENT
BEGIN:VTIMEZONE
TZID:UTC
BEGIN:STANDARD
DTSTART:20250214T000000
TZNAME:UTC
TZOFFSETTO:+0000
TZOFFSETFROM:+0000
END:STANDARD
END:VTIMEZONE
END:VCALENDAR
