BEGIN:VCALENDAR
PRODID:-//eluceo/ical//2.0/EN
VERSION:2.0
CALSCALE:GREGORIAN
BEGIN:VEVENT
UID:5631162ad3e85d60509f5c7aabcd5d17
DTSTAMP:20260424T093928Z
SUMMARY:Tag der offenen Tür
DESCRIPTION:Möglichkeit die Schule kennen zu lernen
URL:https://rslandshut.de/eventleser/tag-der-offenen-tuer.html
DTSTART:20230503T160000
DTEND:20230503T190000
LOCATION:
END:VEVENT
BEGIN:VTIMEZONE
TZID:UTC
BEGIN:STANDARD
DTSTART:20230503T160000
TZNAME:UTC
TZOFFSETTO:+0000
TZOFFSETFROM:+0000
END:STANDARD
END:VTIMEZONE
END:VCALENDAR
