BEGIN:VCALENDAR
PRODID:-//eluceo/ical//2.0/EN
VERSION:2.0
CALSCALE:GREGORIAN
BEGIN:VEVENT
UID:2bae48da4fe4eda4f49b0e9af62d58c2
DTSTAMP:20260422T084636Z
SUMMARY:Tag der offenen Tür
DESCRIPTION:
URL:https://rslandshut.de/eventleser/tag-der-offenen-tuer-3.html
DTSTART:20260415T000000
DTEND:20260415T235959
LOCATION:
END:VEVENT
BEGIN:VTIMEZONE
TZID:UTC
BEGIN:STANDARD
DTSTART:20260415T000000
TZNAME:UTC
TZOFFSETTO:+0000
TZOFFSETFROM:+0000
END:STANDARD
END:VTIMEZONE
END:VCALENDAR
