BEGIN:VCALENDAR
PRODID:-//eluceo/ical//2.0/EN
VERSION:2.0
CALSCALE:GREGORIAN
BEGIN:VEVENT
UID:3c8e6b7c740b7c8f5945a50d1708805f
DTSTAMP:20260422T152126Z
SUMMARY:Jahreszeugnisse
DESCRIPTION:
URL:https://rslandshut.de/eventleser/jahreszeugnisse.html
DTSTART:20250731T000000
DTEND:20250731T235959
LOCATION:
END:VEVENT
BEGIN:VTIMEZONE
TZID:UTC
BEGIN:STANDARD
DTSTART:20250731T000000
TZNAME:UTC
TZOFFSETTO:+0000
TZOFFSETFROM:+0000
END:STANDARD
END:VTIMEZONE
END:VCALENDAR
