BEGIN:VCALENDAR
PRODID:-//eluceo/ical//2.0/EN
VERSION:2.0
CALSCALE:GREGORIAN
BEGIN:VEVENT
UID:1e4200bd5b0cb00a4f4d601e267ac9ce
DTSTAMP:20260422T085231Z
SUMMARY:Elternabend Wahlpflichtfächergruppen 6. Klassen
DESCRIPTION:
URL:https://rslandshut.de/eventleser/elternabend-wahlpflichtfaechergruppen-
 6-klassen.html
DTSTART:20250226T000000
DTEND:20250226T235959
LOCATION:
END:VEVENT
BEGIN:VTIMEZONE
TZID:UTC
BEGIN:STANDARD
DTSTART:20250226T000000
TZNAME:UTC
TZOFFSETTO:+0000
TZOFFSETFROM:+0000
END:STANDARD
END:VTIMEZONE
END:VCALENDAR
