BEGIN:VCALENDAR
PRODID:-//eluceo/ical//2.0/EN
VERSION:2.0
CALSCALE:GREGORIAN
BEGIN:VEVENT
UID:b6ce18f4043180518a2f1919100abc45
DTSTAMP:20260422T124540Z
SUMMARY:Anmeldung für den Übertritt in die Realschule
DESCRIPTION:
URL:https://rslandshut.de/eventleser/anmeldung-fuer-den-uebertritt-in-die-r
 ealschule-2.html
DTSTART:20260511T000000
DTEND:20260513T235959
LOCATION:
END:VEVENT
BEGIN:VTIMEZONE
TZID:UTC
BEGIN:STANDARD
DTSTART:20260511T000000
TZNAME:UTC
TZOFFSETTO:+0000
TZOFFSETFROM:+0000
END:STANDARD
END:VTIMEZONE
END:VCALENDAR
